BEGIN:VCALENDAR
VERSION:2.0
PRODID:-//Rooted in the Community - ECPv6.15.18//NONSGML v1.0//EN
CALSCALE:GREGORIAN
METHOD:PUBLISH
X-WR-CALNAME:Rooted in the Community
X-ORIGINAL-URL:https://berootedin.org
X-WR-CALDESC:Events for Rooted in the Community
REFRESH-INTERVAL;VALUE=DURATION:PT1H
X-Robots-Tag:noindex
X-PUBLISHED-TTL:PT1H
BEGIN:VTIMEZONE
TZID:UTC
BEGIN:STANDARD
TZOFFSETFROM:+0000
TZOFFSETTO:+0000
TZNAME:UTC
DTSTART:20250101T000000
END:STANDARD
END:VTIMEZONE
BEGIN:VEVENT
DTSTART;VALUE=DATE:20261224
DTEND;VALUE=DATE:20261225
DTSTAMP:20260422T223902
CREATED:20251231T171402Z
LAST-MODIFIED:20251231T171403Z
UID:1135-1798070400-1798156799@berootedin.org
SUMMARY:Rooted in the Holidays Hygiene Kit Distribution
DESCRIPTION:
URL:https://berootedin.org/event/rooted-in-the-holidays-hygiene-kit-distribution-2/
END:VEVENT
END:VCALENDAR